BEGIN:VCALENDAR
VERSION:2.0
PRODID:-//The Office of Hawaiian Affairs (OHA) - ECPv5.8.0//NONSGML v1.0//EN
CALSCALE:GREGORIAN
METHOD:PUBLISH
X-WR-CALNAME:The Office of Hawaiian Affairs (OHA)
X-ORIGINAL-URL:https://www.oha.org
X-WR-CALDESC:Events for The Office of Hawaiian Affairs (OHA)
BEGIN:VTIMEZONE
TZID:Pacific/Honolulu
BEGIN:STANDARD
TZOFFSETFROM:-1000
TZOFFSETTO:-1000
TZNAME:HST
DTSTART:20190101T000000
END:STANDARD
END:VTIMEZONE
BEGIN:VEVENT
DTSTART;TZID=Pacific/Honolulu:20190604T173000
DTEND;TZID=Pacific/Honolulu:20190604T193000
DTSTAMP:20210809T152152
CREATED:20190516T195343Z
LAST-MODIFIED:20190516T200118Z
UID:13094-1559669400-1559676600@www.oha.org
SUMMARY:Strategic Plan Community Meeting Session (Oʻahu)
DESCRIPTION:OHA is seeking the community’s manaʻo for the development of the agency’s new strategic plan. Attend one of eight Strategic Planning sessions being hosted throughout the paeʻāina. All meetings are scheduled to start at 5:30 p.m. and end by 7:30 p.m. \nInterested in attending? RSVP at oha@dtlstudio.com. \nThe public is also invited to share manaʻo on OHA’s strategic plan via a web survey. \nFor more information on OHA’s strategic planning process\, visit: oha.org/priorities. \nView flier for more information.
URL:https://www.oha.org/event/strategic-plan-community-meeting-session-o%ca%bbahu-3/
LOCATION:Hauulu Elementary\, 54-046 Kamehameha Hwy.\, Hauula\, HI\, 96717\, United States
CATEGORIES:Community
ATTACH;FMTTYPE=image/jpeg:https://19of32x2yl33s8o4xza0gf14-wpengine.netdna-ssl.com/wp-content/uploads/StratPlan_Hauula.jpg
GEO:21.60634;-157.9081823
X-APPLE-STRUCTURED-LOCATION;VALUE=URI;X-ADDRESS=Hauulu Elementary 54-046 Kamehameha Hwy. Hauula HI 96717 United States;X-APPLE-RADIUS=500;X-TITLE=54-046 Kamehameha Hwy.:geo:-157.9081823,21.60634
END:VEVENT
END:VCALENDAR