BEGIN:VCALENDAR
VERSION:2.0
PRODID:-//The Office of Hawaiian Affairs (OHA) - ECPv5.8.0//NONSGML v1.0//EN
CALSCALE:GREGORIAN
METHOD:PUBLISH
X-WR-CALNAME:The Office of Hawaiian Affairs (OHA)
X-ORIGINAL-URL:https://www.oha.org
X-WR-CALDESC:Events for The Office of Hawaiian Affairs (OHA)
BEGIN:VTIMEZONE
TZID:Pacific/Honolulu
BEGIN:STANDARD
TZOFFSETFROM:-1000
TZOFFSETTO:-1000
TZNAME:HST
DTSTART:20190101T000000
END:STANDARD
END:VTIMEZONE
BEGIN:VEVENT
DTSTART;TZID=Pacific/Honolulu:20190605T173000
DTEND;TZID=Pacific/Honolulu:20190605T193000
DTSTAMP:20210809T152252
CREATED:20190513T225426Z
LAST-MODIFIED:20190514T223527Z
UID:13058-1559755800-1559763000@www.oha.org
SUMMARY:Strategic Plan Community Meeting Session (Kauaʻi)
DESCRIPTION:OHA is seeking the community’s manaʻo for the development of the agency’s new strategic plan. Attend one of eight Strategic Planning sessions being hosted throughout the paeʻāina. All meetings are scheduled to start at 5:30 p.m. and end by 7:30 p.m. \nInterested in attending? RSVP at oha@dtlstudio.com. \nThe public is also invited to share manaʻo on OHA’s strategic plan via a web survey. \nFor more information on OHA’s strategic planning process\, visit: oha.org/priorities. \nView flier for more information.
URL:https://www.oha.org/event/strategic-plan-community-meeting-session-kaua%ca%bbi/
LOCATION:Kauaʻi Community College\, Cafeteria\, 3-1901 Kaumualii Hwy.\, Lihue\, HI\, 96766\, United States
ATTACH;FMTTYPE=image/png:https://19of32x2yl33s8o4xza0gf14-wpengine.netdna-ssl.com/wp-content/uploads/strat_4_kauai.png
GEO:21.9649666;-159.421386
X-APPLE-STRUCTURED-LOCATION;VALUE=URI;X-ADDRESS=Kauaʻi Community College Cafeteria 3-1901 Kaumualii Hwy. Lihue HI 96766 United States;X-APPLE-RADIUS=500;X-TITLE=3-1901 Kaumualii Hwy.:geo:-159.421386,21.9649666
END:VEVENT
END:VCALENDAR