BEGIN:VCALENDAR
VERSION:2.0
PRODID:-//The Office of Hawaiian Affairs (OHA) - ECPv5.8.0//NONSGML v1.0//EN
CALSCALE:GREGORIAN
METHOD:PUBLISH
X-WR-CALNAME:The Office of Hawaiian Affairs (OHA)
X-ORIGINAL-URL:https://www.oha.org
X-WR-CALDESC:Events for The Office of Hawaiian Affairs (OHA)
BEGIN:VTIMEZONE
TZID:Pacific/Honolulu
BEGIN:STANDARD
TZOFFSETFROM:-1000
TZOFFSETTO:-1000
TZNAME:HST
DTSTART:20190101T000000
END:STANDARD
END:VTIMEZONE
BEGIN:VEVENT
DTSTART;TZID=Pacific/Honolulu:20190924T120000
DTEND;TZID=Pacific/Honolulu:20190924T140000
DTSTAMP:20210722T043806
CREATED:20141210T230727Z
LAST-MODIFIED:20141210T230727Z
UID:16142-1569326400-1569333600@www.oha.org
SUMMARY:Ola Nā Iwi & Ka Hoʻina Film Screening & Panel
DESCRIPTION:Attend the special screening of two short films exploring the subject of protecting and repatriating iwi kūpuna\, or bones of the ancestors. Ka Hoʻina: Going Home tells the quest to repatriate iwi kūpuna that were part of British museum collections for more than a century. Repatriation of the 145 kūpuna involved the joint efforts of Hui Mālama i Nā Kūpuna O Hawaiʻi Nei and the Office of Hawaiian Affairs. A panel discussion and Q&A follows the screenings. For more information call (808) 242-7469 or visit www.mauiarts.org
URL:https://www.oha.org/event/ola-na-iwi-ka-ho%ca%bbina-film-screening-panel/2019-09-24/
LOCATION:Maui Arts & Cultural Center\, McCoy Studio Theater\, One Cameron Way\, Kahului\, 96732\, United States
GEO:20.8938872;-156.4804328
X-APPLE-STRUCTURED-LOCATION;VALUE=URI;X-ADDRESS=Maui Arts & Cultural Center McCoy Studio Theater One Cameron Way Kahului 96732 United States;X-APPLE-RADIUS=500;X-TITLE=One Cameron Way:geo:-156.4804328,20.8938872
END:VEVENT
END:VCALENDAR