BEGIN:VCALENDAR
VERSION:2.0
PRODID:-//The Office of Hawaiian Affairs (OHA) - ECPv5.6.0//NONSGML v1.0//EN
CALSCALE:GREGORIAN
METHOD:PUBLISH
X-WR-CALNAME:The Office of Hawaiian Affairs (OHA)
X-ORIGINAL-URL:https://www.oha.org
X-WR-CALDESC:Events for The Office of Hawaiian Affairs (OHA)
BEGIN:VTIMEZONE
TZID:Pacific/Honolulu
BEGIN:STANDARD
TZOFFSETFROM:-1000
TZOFFSETTO:-1000
TZNAME:HST
DTSTART:20210101T000000
END:STANDARD
END:VTIMEZONE
BEGIN:VEVENT
DTSTART;TZID=Pacific/Honolulu:20210518T130000
DTEND;TZID=Pacific/Honolulu:20210518T130000
DTSTAMP:20210518T195338
CREATED:20210513T022810Z
LAST-MODIFIED:20210513T022810Z
UID:17706-1621342800-1621342800@www.oha.org
SUMMARY:OHA JOINT MEETING of the Committee on Beneficiary Advocacy and Empowerment (BAE) and the Committee on Resource Management (RM)
DESCRIPTION:Visit www.oha.org/rm for a full listing of meeting: dates\, agendas\, folders\, minutes\, and cancellations.
URL:https://www.oha.org/event/oha-joint-meeting-of-the-committee-on-beneficiary-advocacy-and-empowerment-bae-and-the-committee-on-resource-management-rm/
LOCATION:Virtual Meeting (viewable at oha.org/livestream)
CATEGORIES:OHA
END:VEVENT
END:VCALENDAR