BEGIN:VCALENDAR
VERSION:2.0
PRODID:-//The Office of Hawaiian Affairs (OHA) - ECPv5.8.0//NONSGML v1.0//EN
CALSCALE:GREGORIAN
METHOD:PUBLISH
X-WR-CALNAME:The Office of Hawaiian Affairs (OHA)
X-ORIGINAL-URL:https://www.oha.org
X-WR-CALDESC:Events for The Office of Hawaiian Affairs (OHA)
BEGIN:VTIMEZONE
TZID:Pacific/Honolulu
BEGIN:STANDARD
TZOFFSETFROM:-1000
TZOFFSETTO:-1000
TZNAME:HST
DTSTART:20190101T000000
END:STANDARD
END:VTIMEZONE
BEGIN:VEVENT
DTSTART;TZID=Pacific/Honolulu:20190606T180000
DTEND;TZID=Pacific/Honolulu:20190606T200000
DTSTAMP:20210809T152421
CREATED:20190613T183431Z
LAST-MODIFIED:20190613T183621Z
UID:13254-1559844000-1559851200@www.oha.org
SUMMARY:Native Hawaiian Revolving Loan Fund Workshop - Lahaina
DESCRIPTION:The Office of Hawaiian Affairs are holding a series of community workshops for its Native Hawaiian Revolving Loan Fund Workshop. Technical Assistance Specialists will be available on site to help you review your credit\, budget\, and give you tips for financial success! \n\nLAHAINA\, MAUI \nThursday\, June 6\, 2019\n6:00 p.m. – 8:00 p.m. \nLahaina Intermediate School Cafeteria\n871 Lahainaluna Road\nLahaina\, HI 96761 \n  \nFor more information about this event or to RSVP\, call (808) 564-3198 or email paula@pacifichui.net.
URL:https://www.oha.org/event/native-hawaiian-revolving-loan-fund-workshop/
LOCATION:Lahaina Intermediate School\, 871 Lahainaluna Road\, Lahaina\, HI\, 96761
GEO:20.8859589;-156.6615841
X-APPLE-STRUCTURED-LOCATION;VALUE=URI;X-ADDRESS=Lahaina Intermediate School 871 Lahainaluna Road Lahaina HI 96761;X-APPLE-RADIUS=500;X-TITLE=871 Lahainaluna Road:geo:-156.6615841,20.8859589
END:VEVENT
END:VCALENDAR