BEGIN:VCALENDAR
VERSION:2.0
PRODID:-//The Office of Hawaiian Affairs (OHA) - ECPv5.6.0//NONSGML v1.0//EN
CALSCALE:GREGORIAN
METHOD:PUBLISH
X-WR-CALNAME:The Office of Hawaiian Affairs (OHA)
X-ORIGINAL-URL:https://www.oha.org
X-WR-CALDESC:Events for The Office of Hawaiian Affairs (OHA)
BEGIN:VTIMEZONE
TZID:Pacific/Honolulu
BEGIN:STANDARD
TZOFFSETFROM:-1000
TZOFFSETTO:-1000
TZNAME:HST
DTSTART:20210101T000000
END:STANDARD
END:VTIMEZONE
BEGIN:VEVENT
DTSTART;TZID=Pacific/Honolulu:20210515T103000
DTEND;TZID=Pacific/Honolulu:20210515T103000
DTSTAMP:20210518T195609
CREATED:20210504T203720Z
LAST-MODIFIED:20210504T203809Z
UID:17649-1621074600-1621074600@www.oha.org
SUMMARY:Kids Cook! Eat More Plants
DESCRIPTION:This plant-based cooking workshop series will introduce healthy foods that kids can prepare themselves. According to the CDC\, 93% of children do not eat enough vegetables. Vegetables are an important source of many essential nutrients\, especially needed for proper growth of the developing child. \nSaturday\, May 15\, 2021\n10:30 a.m. \nThis is a Mana i Mauli Ola virtual workshop for Molokaʻi Island. \nTo sign up or for more information contact OHA’s Molokaʻi office at (808) 560-3611 or gaylah@oha.org.
URL:https://www.oha.org/event/kids-cook-eat-more-plants/
END:VEVENT
END:VCALENDAR