BEGIN:VCALENDAR
VERSION:2.0
PRODID:-//The Office of Hawaiian Affairs (OHA) - ECPv5.8.0//NONSGML v1.0//EN
CALSCALE:GREGORIAN
METHOD:PUBLISH
X-WR-CALNAME:The Office of Hawaiian Affairs (OHA)
X-ORIGINAL-URL:https://www.oha.org
X-WR-CALDESC:Events for The Office of Hawaiian Affairs (OHA)
BEGIN:VTIMEZONE
TZID:Pacific/Honolulu
BEGIN:STANDARD
TZOFFSETFROM:-1000
TZOFFSETTO:-1000
TZNAME:HST
DTSTART:20190101T000000
END:STANDARD
END:VTIMEZONE
BEGIN:VEVENT
DTSTART;TZID=Pacific/Honolulu:20190612T180000
DTEND;TZID=Pacific/Honolulu:20190612T200000
DTSTAMP:20210809T152705
CREATED:20190613T190407Z
LAST-MODIFIED:20190613T190407Z
UID:13275-1560362400-1560369600@www.oha.org
SUMMARY:Kamanowaionāmoku Kumu Hina's Mele Workshop
DESCRIPTION:Join us for a free mele workshop as we learn from Kumu Hina about how Hawaiian perspectives impact the mele that we sing\, dance and chant in honor of our beloved land. This is the second of our Aloha ʻĀina\, ʻĀina Aloha Mele Workshop series. Please stay makaʻala and on the lookout for announcements on upcoming dates and locations. \n  \nWednesday\, June 12\, 2019\n6:00 p.m. – 8:00 p.m. \nNā Lama Kukui\, OHA\, Mauli Oli\n560 N. Nimitz Hwy\, #200\nHonolulu\, HI 96817 \n  \nFor more information visit oha.org/kumuhina \nThis event is sponsored by the Office of Hawaiian Affairs.
URL:https://www.oha.org/event/kamanowaionamoku-kumu-hinas-mele-workshop/
LOCATION:Na Lama Kukui\, Ka Lumi Halawai Nui ‘O Mauli Ola
END:VEVENT
END:VCALENDAR