BEGIN:VCALENDAR
VERSION:2.0
PRODID:-//The Office of Hawaiian Affairs (OHA) - ECPv5.8.0//NONSGML v1.0//EN
CALSCALE:GREGORIAN
METHOD:PUBLISH
X-WR-CALNAME:The Office of Hawaiian Affairs (OHA)
X-ORIGINAL-URL:https://www.oha.org
X-WR-CALDESC:Events for The Office of Hawaiian Affairs (OHA)
BEGIN:VTIMEZONE
TZID:Pacific/Honolulu
BEGIN:STANDARD
TZOFFSETFROM:-1000
TZOFFSETTO:-1000
TZNAME:HST
DTSTART:20190101T000000
END:STANDARD
END:VTIMEZONE
BEGIN:VEVENT
DTSTART;TZID=Pacific/Honolulu:20191109T090000
DTEND;TZID=Pacific/Honolulu:20191109T140000
DTSTAMP:20210723T073226
CREATED:20191031T214947Z
LAST-MODIFIED:20200717T180540Z
UID:13954-1573290000-1573308000@www.oha.org
SUMMARY:Kamahaʻo Nā Hulu Koʻo
DESCRIPTION:Kamahaʻo Nā Hulu Koʻo\, “astonishing are the feathered ones”\, is a one-day community event featuring Hawaiian sea and wetland birds. This free event will expand participants’ understanding of the cultural significance these birds hold. \n\nSaturday\, November 9\, 2019\n9:00 a.m. – 2:00 p.m. \nPapahana Kuaola\n46-403 Haʻikū Road\nKāneʻohe\, HI 96744 \nOʻahu Island \nThis event is sponsored by OHA’s ʻAhahui Grant and hosted by Papahana Kuaola.
URL:https://www.oha.org/event/kamaha%ca%bbo-na-hulu-ko%ca%bbo/
LOCATION:Papahana Kuaola\, 46-403 Haiku Rd\, Kaneohe\, HI\, 96744\, United States
GEO:21.41239;-157.8185184
X-APPLE-STRUCTURED-LOCATION;VALUE=URI;X-ADDRESS=Papahana Kuaola 46-403 Haiku Rd Kaneohe HI 96744 United States;X-APPLE-RADIUS=500;X-TITLE=46-403 Haiku Rd:geo:-157.8185184,21.41239
END:VEVENT
END:VCALENDAR