BEGIN:VCALENDAR
VERSION:2.0
PRODID:-//The Office of Hawaiian Affairs (OHA) - ECPv5.6.0//NONSGML v1.0//EN
CALSCALE:GREGORIAN
METHOD:PUBLISH
X-WR-CALNAME:The Office of Hawaiian Affairs (OHA)
X-ORIGINAL-URL:https://www.oha.org
X-WR-CALDESC:Events for The Office of Hawaiian Affairs (OHA)
BEGIN:VTIMEZONE
TZID:Pacific/Honolulu
BEGIN:STANDARD
TZOFFSETFROM:-1000
TZOFFSETTO:-1000
TZNAME:HST
DTSTART:20210101T000000
END:STANDARD
END:VTIMEZONE
BEGIN:VEVENT
DTSTART;TZID=Pacific/Honolulu:20210513T180000
DTEND;TZID=Pacific/Honolulu:20210513T193000
DTSTAMP:20210518T195541
CREATED:20210504T024659Z
LAST-MODIFIED:20210504T203157Z
UID:17641-1620928800-1620934200@www.oha.org
SUMMARY:Hula Kiʻi
DESCRIPTION:Kumu Kaponoai Molitau will introduce participants to hula ki`i\, including its different forms and processes in creating and how it was utilized in order to pass on ancestral mo`olelo to newer generations \nThursday\, May 13\, 2021\n6:00 p.m. \nEmail thelmas@oha.org to register for Zoom link. \nThis is a Mana i Mauli Ola virtual workshop for Maui Island.
URL:https://www.oha.org/event/hula-ki%ca%bbi/
END:VEVENT
END:VCALENDAR