BEGIN:VCALENDAR
VERSION:2.0
PRODID:-//The Office of Hawaiian Affairs (OHA) - ECPv5.8.0//NONSGML v1.0//EN
CALSCALE:GREGORIAN
METHOD:PUBLISH
X-WR-CALNAME:The Office of Hawaiian Affairs (OHA)
X-ORIGINAL-URL:https://www.oha.org
X-WR-CALDESC:Events for The Office of Hawaiian Affairs (OHA)
BEGIN:VTIMEZONE
TZID:Pacific/Honolulu
BEGIN:STANDARD
TZOFFSETFROM:-1000
TZOFFSETTO:-1000
TZNAME:HST
DTSTART:20190101T000000
END:STANDARD
END:VTIMEZONE
BEGIN:VEVENT
DTSTART;TZID=Pacific/Honolulu:20190607T170000
DTEND;TZID=Pacific/Honolulu:20190607T200000
DTSTAMP:20210809T152550
CREATED:20190613T190122Z
LAST-MODIFIED:20190613T190151Z
UID:13272-1559926800-1559937600@www.oha.org
SUMMARY:Father's Day Lei Making Workshop
DESCRIPTION:Artist Patty Gomes will guide children in the making of a seed lei as a gift for Father’s Day. Participation and materials are free and all are welcome. \n\nFriday\, June 7\, 2019\n5:00 p.m. – 8:00 p.m. \nQueen Kaʻahumanu Center\n275 West Kaʻahumanu Ave.\nKahului\, HI 96732 \nMaui Island \n \nFor more information about this event\, contact OHA Maui Community Outreach Coordinator\, Thelma Shimaoka\, at (808) 873-3364 or email thelmas@oha.org. \nThis event is sponsored by OHA’s Community Outreach Department’s I Mana Ka Lāhui program.
URL:https://www.oha.org/event/fathers-day-lei-making-workshop/
LOCATION:Queen Kaahumanu Center\, 275 West Kaahumanu Avenue\, Kahului\, HI\, 96732
GEO:20.8871323;-156.4749542
X-APPLE-STRUCTURED-LOCATION;VALUE=URI;X-ADDRESS=Queen Kaahumanu Center 275 West Kaahumanu Avenue Kahului HI 96732;X-APPLE-RADIUS=500;X-TITLE=275 West Kaahumanu Avenue:geo:-156.4749542,20.8871323
END:VEVENT
END:VCALENDAR